BEGIN:VCALENDAR
VERSION:2.0
PRODID:-//The Pop Pickers - ECPv6.15.20//NONSGML v1.0//EN
CALSCALE:GREGORIAN
METHOD:PUBLISH
X-WR-CALNAME:The Pop Pickers
X-ORIGINAL-URL:https://thepoppickers.com
X-WR-CALDESC:Events for The Pop Pickers
REFRESH-INTERVAL;VALUE=DURATION:PT1H
X-Robots-Tag:noindex
X-PUBLISHED-TTL:PT1H
BEGIN:VTIMEZONE
TZID:Europe/London
BEGIN:DAYLIGHT
TZOFFSETFROM:+0000
TZOFFSETTO:+0100
TZNAME:BST
DTSTART:20260329T010000
END:DAYLIGHT
BEGIN:STANDARD
TZOFFSETFROM:+0100
TZOFFSETTO:+0000
TZNAME:GMT
DTSTART:20261025T010000
END:STANDARD
BEGIN:DAYLIGHT
TZOFFSETFROM:+0000
TZOFFSETTO:+0100
TZNAME:BST
DTSTART:20270328T010000
END:DAYLIGHT
BEGIN:STANDARD
TZOFFSETFROM:+0100
TZOFFSETTO:+0000
TZNAME:GMT
DTSTART:20271031T010000
END:STANDARD
BEGIN:DAYLIGHT
TZOFFSETFROM:+0000
TZOFFSETTO:+0100
TZNAME:BST
DTSTART:20280326T010000
END:DAYLIGHT
BEGIN:STANDARD
TZOFFSETFROM:+0100
TZOFFSETTO:+0000
TZNAME:GMT
DTSTART:20281029T010000
END:STANDARD
END:VTIMEZONE
BEGIN:VEVENT
DTSTART;TZID=Europe/London:20270403T203000
DTEND;TZID=Europe/London:20270403T230000
DTSTAMP:20260425T024421
CREATED:20260416T182005Z
LAST-MODIFIED:20260416T182005Z
UID:10000507-1806784200-1806793200@thepoppickers.com
SUMMARY:Bitterne Park Social Club
DESCRIPTION:
URL:https://thepoppickers.com/event/bitterne-park-social-club-5/
LOCATION:Bitterne Park Social Club\, 76 Manor Farm Road\, Southampton\, Hampshire\, SO18 1NQ\, United Kingdom
ORGANIZER;CN="Bitterne Park Social Club":MAILTO:enquiries@bpsocialclub.com
END:VEVENT
END:VCALENDAR