BEGIN:VCALENDAR
VERSION:2.0
PRODID:-//The Pop Pickers - ECPv6.15.20//NONSGML v1.0//EN
CALSCALE:GREGORIAN
METHOD:PUBLISH
X-ORIGINAL-URL:https://thepoppickers.com
X-WR-CALDESC:Events for The Pop Pickers
REFRESH-INTERVAL;VALUE=DURATION:PT1H
X-Robots-Tag:noindex
X-PUBLISHED-TTL:PT1H
BEGIN:VTIMEZONE
TZID:Europe/London
BEGIN:DAYLIGHT
TZOFFSETFROM:+0000
TZOFFSETTO:+0100
TZNAME:BST
DTSTART:20240331T010000
END:DAYLIGHT
BEGIN:STANDARD
TZOFFSETFROM:+0100
TZOFFSETTO:+0000
TZNAME:GMT
DTSTART:20241027T010000
END:STANDARD
BEGIN:DAYLIGHT
TZOFFSETFROM:+0000
TZOFFSETTO:+0100
TZNAME:BST
DTSTART:20250330T010000
END:DAYLIGHT
BEGIN:STANDARD
TZOFFSETFROM:+0100
TZOFFSETTO:+0000
TZNAME:GMT
DTSTART:20251026T010000
END:STANDARD
BEGIN:DAYLIGHT
TZOFFSETFROM:+0000
TZOFFSETTO:+0100
TZNAME:BST
DTSTART:20260329T010000
END:DAYLIGHT
BEGIN:STANDARD
TZOFFSETFROM:+0100
TZOFFSETTO:+0000
TZNAME:GMT
DTSTART:20261025T010000
END:STANDARD
BEGIN:DAYLIGHT
TZOFFSETFROM:+0000
TZOFFSETTO:+0100
TZNAME:BST
DTSTART:20270328T010000
END:DAYLIGHT
BEGIN:STANDARD
TZOFFSETFROM:+0100
TZOFFSETTO:+0000
TZNAME:GMT
DTSTART:20271031T010000
END:STANDARD
END:VTIMEZONE
BEGIN:VEVENT
DTSTART;TZID=Europe/London:20251231T203000
DTEND;TZID=Europe/London:20260101T003000
DTSTAMP:20260422T014642
CREATED:20241109T144444Z
LAST-MODIFIED:20251223T183416Z
UID:10000394-1767213000-1767227400@thepoppickers.com
SUMMARY:Poole Centenary Hall & Club
DESCRIPTION:
URL:https://thepoppickers.com/event/poole-centenary-hall-club-6/
LOCATION:Poole Centenary Hall & Club\, 22 Wimborne Road\, Poole\,\, Dorset\, BH15 2BU\, United Kingdom
ATTACH;FMTTYPE=image/jpeg:https://thepoppickers.com/wp-content/uploads/2024/11/Poole-Centenary-Hall-and-Club-scaled.jpg
END:VEVENT
BEGIN:VEVENT
DTSTART;TZID=Europe/London:20260103T080000
DTEND;TZID=Europe/London:20260103T230000
DTSTAMP:20260422T014642
CREATED:20251110T172659Z
LAST-MODIFIED:20251116T143720Z
UID:10000490-1767427200-1767481200@thepoppickers.com
SUMMARY:Private Party
DESCRIPTION:
URL:https://thepoppickers.com/event/private-party/
LOCATION:Mercure White Hart Salisbury
END:VEVENT
BEGIN:VEVENT
DTSTART;TZID=Europe/London:20260110T203000
DTEND;TZID=Europe/London:20260110T233000
DTSTAMP:20260422T014642
CREATED:20250522T103304Z
LAST-MODIFIED:20260122T190113Z
UID:10000476-1768077000-1768087800@thepoppickers.com
SUMMARY:Kinson Conservative Club
DESCRIPTION:
URL:https://thepoppickers.com/event/kinson-conservative-club-7/
LOCATION:Kinson Conservative Club\, 1394-96 Wimborne Road\, Bournemouth\, Dorset\, BH10 7AR\, United Kingdom
ATTACH;FMTTYPE=image/jpeg:https://thepoppickers.com/wp-content/uploads/2024/11/Kinson-Con-Club-scaled.jpg
END:VEVENT
BEGIN:VEVENT
DTSTART;TZID=Europe/London:20260117T204500
DTEND;TZID=Europe/London:20260117T230000
DTSTAMP:20260422T014642
CREATED:20250405T121958Z
LAST-MODIFIED:20250405T121958Z
UID:10000447-1768682700-1768690800@thepoppickers.com
SUMMARY:Nursling and Rownhams Social Club
DESCRIPTION:
URL:https://thepoppickers.com/event/nursling-and-rownhams-social-club/
LOCATION:Nursling & Rownhams Social Club\, Joe Bigwood Close\, Nursling\, Southampton\, Hampshire\, SO16 0YL\, United Kingdom
ATTACH;FMTTYPE=image/jpeg:https://thepoppickers.com/wp-content/uploads/2024/11/Nursling-and-Rownhams-Social-Club-scaled.jpg
END:VEVENT
BEGIN:VEVENT
DTSTART;TZID=Europe/London:20260124T203000
DTEND;TZID=Europe/London:20260124T233000
DTSTAMP:20260422T014643
CREATED:20250504T124536Z
LAST-MODIFIED:20260122T185740Z
UID:10000469-1769286600-1769297400@thepoppickers.com
SUMMARY:Romsey Royal British Legion
DESCRIPTION:
URL:https://thepoppickers.com/event/romsey-royal-british-legion-11/
LOCATION:Romsey Royal British Legion\, Shean House\, Love Lane\, Romsey\, Hampshire\, SO51 8DE\, United Kingdom
ATTACH;FMTTYPE=image/jpeg:https://thepoppickers.com/wp-content/uploads/2024/11/Romsey-RBL-scaled.jpg
END:VEVENT
BEGIN:VEVENT
DTSTART;TZID=Europe/London:20260131T203000
DTEND;TZID=Europe/London:20260131T233000
DTSTAMP:20260422T014643
CREATED:20250506T182315Z
LAST-MODIFIED:20260122T185918Z
UID:10000472-1769891400-1769902200@thepoppickers.com
SUMMARY:Durrington Club
DESCRIPTION:
URL:https://thepoppickers.com/event/durrington-club-3/
LOCATION:Durrington Club\, 40 Windsor Road\, Durrington\, Salisbury\, Wiltshire\, SP4 8HG\, United Kingdom
ATTACH;FMTTYPE=image/jpeg:https://thepoppickers.com/wp-content/uploads/2024/11/Durrington-Club-scaled.jpg
END:VEVENT
END:VCALENDAR