BEGIN:VCALENDAR
VERSION:2.0
PRODID:-//The Pop Pickers - ECPv6.15.20//NONSGML v1.0//EN
CALSCALE:GREGORIAN
METHOD:PUBLISH
X-WR-CALNAME:The Pop Pickers
X-ORIGINAL-URL:https://thepoppickers.com
X-WR-CALDESC:Events for The Pop Pickers
REFRESH-INTERVAL;VALUE=DURATION:PT1H
X-Robots-Tag:noindex
X-PUBLISHED-TTL:PT1H
BEGIN:VTIMEZONE
TZID:Europe/London
BEGIN:DAYLIGHT
TZOFFSETFROM:+0000
TZOFFSETTO:+0100
TZNAME:BST
DTSTART:20250330T010000
END:DAYLIGHT
BEGIN:STANDARD
TZOFFSETFROM:+0100
TZOFFSETTO:+0000
TZNAME:GMT
DTSTART:20251026T010000
END:STANDARD
BEGIN:DAYLIGHT
TZOFFSETFROM:+0000
TZOFFSETTO:+0100
TZNAME:BST
DTSTART:20260329T010000
END:DAYLIGHT
BEGIN:STANDARD
TZOFFSETFROM:+0100
TZOFFSETTO:+0000
TZNAME:GMT
DTSTART:20261025T010000
END:STANDARD
BEGIN:DAYLIGHT
TZOFFSETFROM:+0000
TZOFFSETTO:+0100
TZNAME:BST
DTSTART:20270328T010000
END:DAYLIGHT
BEGIN:STANDARD
TZOFFSETFROM:+0100
TZOFFSETTO:+0000
TZNAME:GMT
DTSTART:20271031T010000
END:STANDARD
END:VTIMEZONE
BEGIN:VEVENT
DTSTART;TZID=Europe/London:20260704T210000
DTEND;TZID=Europe/London:20260704T233000
DTSTAMP:20260421T092322
CREATED:20250403T141011Z
LAST-MODIFIED:20250403T141011Z
UID:10000442-1783198800-1783207800@thepoppickers.com
SUMMARY:Cosham Social Club
DESCRIPTION:
URL:https://thepoppickers.com/event/cosham-social-club-12/
LOCATION:Cosham Social Club\, 14 Wayte Street\, Cosham\, Portsmouth\, Hampshire\, PO6 3BS\, United Kingdom
ATTACH;FMTTYPE=image/jpeg:https://thepoppickers.com/wp-content/uploads/2024/11/Cosham-Social-Club-2015-03-21.jpg
END:VEVENT
BEGIN:VEVENT
DTSTART;TZID=Europe/London:20260711T200000
DTEND;TZID=Europe/London:20260711T223000
DTSTAMP:20260421T092322
CREATED:20250327T163043Z
LAST-MODIFIED:20250327T163043Z
UID:10000436-1783800000-1783809000@thepoppickers.com
SUMMARY:Hayling Royal British Legion
DESCRIPTION:
URL:https://thepoppickers.com/event/hayling-royal-british-legion-12/
LOCATION:Hayling Royal British Legion\, Legion Road\, Hayling Island\,\, Havant\, Hampshire\, PO11 9ES\, United Kingdom
ATTACH;FMTTYPE=image/jpeg:https://thepoppickers.com/wp-content/uploads/2024/11/Hayling-Royal-British-Legion-scaled.jpg
END:VEVENT
BEGIN:VEVENT
DTSTART;TZID=Europe/London:20260718T203000
DTEND;TZID=Europe/London:20260718T230000
DTSTAMP:20260421T092322
CREATED:20250414T163729Z
LAST-MODIFIED:20250414T163729Z
UID:10000457-1784406600-1784415600@thepoppickers.com
SUMMARY:Bishopstoke Social Club
DESCRIPTION:
URL:https://thepoppickers.com/event/bishopstoke-social-club-3/
LOCATION:Bishopstoke Social Club\, 10 Spring Road\, Bishopstoke\, Eastleigh\, Hampshire\, SO50 6LS\, United Kingdom
ATTACH;FMTTYPE=image/jpeg:https://thepoppickers.com/wp-content/uploads/2025/01/Bishopstoke-Social-Club-scaled.jpg
END:VEVENT
BEGIN:VEVENT
DTSTART;TZID=Europe/London:20260725T203000
DTEND;TZID=Europe/London:20260725T233000
DTSTAMP:20260421T092322
CREATED:20260210T143641Z
LAST-MODIFIED:20260210T143641Z
UID:10000493-1785011400-1785022200@thepoppickers.com
SUMMARY:Romsey Royal British Legion
DESCRIPTION:
URL:https://thepoppickers.com/event/romsey-royal-british-legion-12/
LOCATION:Romsey Royal British Legion\, Shean House\, Love Lane\, Romsey\, Hampshire\, SO51 8DE\, United Kingdom
ATTACH;FMTTYPE=image/jpeg:https://thepoppickers.com/wp-content/uploads/2024/11/Romsey-RBL-scaled.jpg
END:VEVENT
END:VCALENDAR