BEGIN:VCALENDAR
VERSION:2.0
PRODID:-//The Pop Pickers - ECPv6.15.20//NONSGML v1.0//EN
CALSCALE:GREGORIAN
METHOD:PUBLISH
X-WR-CALNAME:The Pop Pickers
X-ORIGINAL-URL:https://thepoppickers.com
X-WR-CALDESC:Events for The Pop Pickers
REFRESH-INTERVAL;VALUE=DURATION:PT1H
X-Robots-Tag:noindex
X-PUBLISHED-TTL:PT1H
BEGIN:VTIMEZONE
TZID:Europe/London
BEGIN:DAYLIGHT
TZOFFSETFROM:+0000
TZOFFSETTO:+0100
TZNAME:BST
DTSTART:20250330T010000
END:DAYLIGHT
BEGIN:STANDARD
TZOFFSETFROM:+0100
TZOFFSETTO:+0000
TZNAME:GMT
DTSTART:20251026T010000
END:STANDARD
BEGIN:DAYLIGHT
TZOFFSETFROM:+0000
TZOFFSETTO:+0100
TZNAME:BST
DTSTART:20260329T010000
END:DAYLIGHT
BEGIN:STANDARD
TZOFFSETFROM:+0100
TZOFFSETTO:+0000
TZNAME:GMT
DTSTART:20261025T010000
END:STANDARD
BEGIN:DAYLIGHT
TZOFFSETFROM:+0000
TZOFFSETTO:+0100
TZNAME:BST
DTSTART:20270328T010000
END:DAYLIGHT
BEGIN:STANDARD
TZOFFSETFROM:+0100
TZOFFSETTO:+0000
TZNAME:GMT
DTSTART:20271031T010000
END:STANDARD
END:VTIMEZONE
BEGIN:VEVENT
DTSTART;TZID=Europe/London:20260131T203000
DTEND;TZID=Europe/London:20260131T233000
DTSTAMP:20260422T075817
CREATED:20250506T182315Z
LAST-MODIFIED:20260122T185918Z
UID:10000472-1769891400-1769902200@thepoppickers.com
SUMMARY:Durrington Club
DESCRIPTION:
URL:https://thepoppickers.com/event/durrington-club-3/
LOCATION:Durrington Club\, 40 Windsor Road\, Durrington\, Salisbury\, Wiltshire\, SP4 8HG\, United Kingdom
ATTACH;FMTTYPE=image/jpeg:https://thepoppickers.com/wp-content/uploads/2024/11/Durrington-Club-scaled.jpg
END:VEVENT
END:VCALENDAR