BEGIN:VCALENDAR
VERSION:2.0
PRODID:-//The Pop Pickers - ECPv6.15.20//NONSGML v1.0//EN
CALSCALE:GREGORIAN
METHOD:PUBLISH
X-WR-CALNAME:The Pop Pickers
X-ORIGINAL-URL:https://thepoppickers.com
X-WR-CALDESC:Events for The Pop Pickers
REFRESH-INTERVAL;VALUE=DURATION:PT1H
X-Robots-Tag:noindex
X-PUBLISHED-TTL:PT1H
BEGIN:VTIMEZONE
TZID:Europe/London
BEGIN:DAYLIGHT
TZOFFSETFROM:+0000
TZOFFSETTO:+0100
TZNAME:BST
DTSTART:20250330T010000
END:DAYLIGHT
BEGIN:STANDARD
TZOFFSETFROM:+0100
TZOFFSETTO:+0000
TZNAME:GMT
DTSTART:20251026T010000
END:STANDARD
BEGIN:DAYLIGHT
TZOFFSETFROM:+0000
TZOFFSETTO:+0100
TZNAME:BST
DTSTART:20260329T010000
END:DAYLIGHT
BEGIN:STANDARD
TZOFFSETFROM:+0100
TZOFFSETTO:+0000
TZNAME:GMT
DTSTART:20261025T010000
END:STANDARD
BEGIN:DAYLIGHT
TZOFFSETFROM:+0000
TZOFFSETTO:+0100
TZNAME:BST
DTSTART:20270328T010000
END:DAYLIGHT
BEGIN:STANDARD
TZOFFSETFROM:+0100
TZOFFSETTO:+0000
TZNAME:GMT
DTSTART:20271031T010000
END:STANDARD
END:VTIMEZONE
BEGIN:VEVENT
DTSTART;TZID=Europe/London:20260313T201500
DTEND;TZID=Europe/London:20260313T230000
DTSTAMP:20260425T013708
CREATED:20250417T102329Z
LAST-MODIFIED:20250417T102329Z
UID:10000459-1773432900-1773442800@thepoppickers.com
SUMMARY:Hythe and District Club
DESCRIPTION:
URL:https://thepoppickers.com/event/hythe-and-district-club-20/
LOCATION:Hythe and District Club\, 26 Pylewell Road\, Hythe\, Southampton\, Hampshire\, SO45 6AQ\, United Kingdom
ATTACH;FMTTYPE=image/jpeg:https://thepoppickers.com/wp-content/uploads/2024/11/Hythe-and-District-Club-scaled.jpg
END:VEVENT
BEGIN:VEVENT
DTSTART;TZID=Europe/London:20260314T203000
DTEND;TZID=Europe/London:20260314T233000
DTSTAMP:20260425T013708
CREATED:20250527T130235Z
LAST-MODIFIED:20250527T130235Z
UID:10000481-1773520200-1773531000@thepoppickers.com
SUMMARY:Portsmouth Post Office Club
DESCRIPTION:
URL:https://thepoppickers.com/event/portsmouth-post-office-club-3/
LOCATION:Portsmouth Post Office Club\, 134 London Road\, Portsmouth\, Hampshire\, PO2 9DE\, United Kingdom
ATTACH;FMTTYPE=image/jpeg:https://thepoppickers.com/wp-content/uploads/2024/11/Portsmouth-Post-Office-Club-2-scaled.jpg
END:VEVENT
END:VCALENDAR